BEGIN:VCALENDAR
VERSION:2.0
PRODID:-//Studioprogramma KIS Haircare - ECPv6.15.20//NONSGML v1.0//EN
CALSCALE:GREGORIAN
METHOD:PUBLISH
X-ORIGINAL-URL:https://studioprogramma.kis-haircare.nl
X-WR-CALDESC:Evenementen voor Studioprogramma KIS Haircare
REFRESH-INTERVAL;VALUE=DURATION:PT1H
X-Robots-Tag:noindex
X-PUBLISHED-TTL:PT1H
BEGIN:VTIMEZONE
TZID:Europe/Helsinki
BEGIN:DAYLIGHT
TZOFFSETFROM:+0200
TZOFFSETTO:+0300
TZNAME:EEST
DTSTART:20250330T010000
END:DAYLIGHT
BEGIN:STANDARD
TZOFFSETFROM:+0300
TZOFFSETTO:+0200
TZNAME:EET
DTSTART:20251026T010000
END:STANDARD
BEGIN:DAYLIGHT
TZOFFSETFROM:+0200
TZOFFSETTO:+0300
TZNAME:EEST
DTSTART:20260329T010000
END:DAYLIGHT
BEGIN:STANDARD
TZOFFSETFROM:+0300
TZOFFSETTO:+0200
TZNAME:EET
DTSTART:20261025T010000
END:STANDARD
BEGIN:DAYLIGHT
TZOFFSETFROM:+0200
TZOFFSETTO:+0300
TZNAME:EEST
DTSTART:20270328T010000
END:DAYLIGHT
BEGIN:STANDARD
TZOFFSETFROM:+0300
TZOFFSETTO:+0200
TZNAME:EET
DTSTART:20271031T010000
END:STANDARD
END:VTIMEZONE
BEGIN:VEVENT
DTSTART;TZID=Europe/Helsinki:20260414T100000
DTEND;TZID=Europe/Helsinki:20260414T163000
DTSTAMP:20260422T165126
CREATED:20251205T065141Z
LAST-MODIFIED:20251205T065141Z
UID:10000535-1776160800-1776184200@studioprogramma.kis-haircare.nl
SUMMARY:KIS Brown Expert Class (Apeldoorn) 140426
DESCRIPTION:Wil jij een echte brown expert worden en moeiteloos diepe\, rijke bruintinten creëren? In deze training leer je alles over pigmenten\, ondergronden en voorpigmentatie\, zodat je elke bruintint perfect kunt neerzetten – van natuurlijk warm tot koel en intens. \nWat kun je verwachten? \nIn de ochtend krijg je uitgebreide theoretische uitleg over pigmentleer\, kleurkeuze en voorpigmentatie. Je ontdekt hoe je ongewenste warmte of grauwheid voorkomt en leert wat de juiste aanpak is bij het terugkleuren van blond naar bruin. Denk aan het plaatsen van koele lowlights op een te lichte basis of het creëren van een diepe\, natuurlijke bruine tint met kleurbehoud en glans. \nIn de middag breng je de theorie direct in praktijk. Onder begeleiding pas je verschillende technieken toe om jouw nieuwe kennis te vertalen naar perfect gebalanceerde kleurresultaten. \nWaarom deelnemen? \nNa deze training beheers je alle technieken om rijke\, diepe bruintinten te creëren zonder ongewenste bijtonen. Je weet precies wanneer en hoe je moet voorpigmenteren en welke productcombinaties je gebruikt om een duurzaam en glanzend resultaat te behalen. Een must voor iedere stylist die wil uitblinken in bruine kleuringen. \nLevel: gevorderd (minimaal 1 jaar ervaring met KIS kleur en niet geschikt voor beginnende stylisten) \nIngeschreven maar onverwacht verhinderd? Geeft dit tijdig aan ons door. Wij kunnen dan iemand van de wachtlijst plaatsen voor dit seminar. Bij te laat melden of niet melden\, hanteren we een annuleringsregeling: bij annulering binnen 14 dagen voor aanvang van de cursus bedragen de kosten 50% van het cursusbedrag. Bij annulering tot een week voor aanvang van de cursus vindt geen restitutie van het cursusbedrag plaats. Deelname door een plaatsvervanger is altijd toegestaan.
URL:https://studioprogramma.kis-haircare.nl/workshops/kis-brown-expert-class-apeldoorn-140426/
LOCATION:Ministry of Beauty\, Europaweg 220\, 7336 AR Apeldoorn\, Nederland
CATEGORIES:KIS Haircare
ATTACH;FMTTYPE=image/jpeg:https://studioprogramma.kis-haircare.nl/wp-content/uploads/2025/06/KIS_educatie_afbeeldingen_online_-kopie17.jpg
ORGANIZER;CN="KIS HairCare":MAILTO:info@kis-haircare.com
GEO:52.1926836;5.9329345
X-APPLE-STRUCTURED-LOCATION;VALUE=URI;X-ADDRESS=Ministry of Beauty Europaweg 220 7336 AR Apeldoorn Nederland;X-APPLE-RADIUS=500;X-TITLE=Europaweg 220:geo:5.9329345,52.1926836
END:VEVENT
BEGIN:VEVENT
DTSTART;TZID=Europe/Helsinki:20260330T100000
DTEND;TZID=Europe/Helsinki:20260330T163000
DTSTAMP:20260422T165126
CREATED:20251205T065142Z
LAST-MODIFIED:20251205T065142Z
UID:10000537-1774864800-1774888200@studioprogramma.kis-haircare.nl
SUMMARY:KIS Colorspecialist Opleiding
DESCRIPTION:Word een echte KIS Colorspecialist! In het voorjaar starten we opnieuw met de intensieve 4-daagse opleiding waarin je álles leert over kleuren met KIS. Na deze opleiding heeft geen enkele kleuruitdaging in de salon nog geheimen voor jou. Je vergroot niet alleen je kennis\, maar ontwikkelt ook de skills om klanten met vertrouwen en vakmanschap te adviseren én te verrassen met prachtige kleurresultaten. \nWat kun je verwachten? \nTijdens vier lesdagen op onze locatie in Apeldoorn behandelen we alle aspecten van kleur: \nDag 1 – Theorie van KIS Color\nWe starten met een interactieve uitleg over het kleurenwiel\, grijsdekking\, waterstoffen en de verschillende kleurlijnen van KIS. \nDag 2 – Rood- en kopertinten\nLeer hoe je krachtige rood- en koperkleuren creëert én hoe je klanten voorziet van passend advies voor kleurbehoud thuis. \nDag 3 – Blondtinten perfectioneren\nJe ontdekt hoe je blondkleuren naar een hoger niveau tilt met slimme tips voor blonderen\, lichter verven en het maken van creatieve tonings. \nDag 4 – De kunst van een persoonlijke aanpak\nWe gaan aan de slag met adviesgesprekken\, het analyseren van gezichtsvormen en werken op modellen. Je leert hoe je een kleur volledig afstemt op de klant – elke keer opnieuw. \nHoe ziet de opleiding eruit? \nDe opleiding bestaat uit vier intensieve dagen waarin je werkt met swatches\, oefenhoofden én modellen. Alleen als je alle dagen hebt gevolgd\, ontvang je na afloop jouw officiële KIS Colorspecialist-certificaat.\nAls erkenning krijg je een persoonlijke KIS Colorspecialist-pin én een stijlvolle plaquette met jouw naam voor in de salon – een echte eyecatcher! \nWaarom deelnemen? \nNa deze opleiding beschik je over diepgaande kleurkennis\, technische vaardigheden en het zelfvertrouwen om in elke situatie de juiste kleurkeuze te maken. Deze opleiding is bedoeld voor stylisten die al ervaring hebben met KIS kleur\, en zich verder willen specialiseren in het kleurvak. \nPraktische informatie \nData: \n\nMaandag 30 & dinsdag 31 maart 2026\nDinsdag 12 & woensdag 13 mei 2026\n\nLocatie:          Ministry of Beauty\, Apeldoorn\nTijd:                 10.00 – 16.30 uur\nKosten:            € 395\,- excl. btw (voor de volledige opleiding van 4 dagen)\nOptioneel:       Overnachting voor € 140\,- per kamer\, ontbijt € 19\,50 p.p.\nNiveau:           Voorwaarden voor deelname:\n– MASTER – minimaal 2 jaar ervaring met KIS kleur;\n– De basis kleurtheorie van KIS uitstekend beheersen (deze wordt niet herhaald); hiervoor moeten zowel de KIS Color Start Up (KIS kleur basis) als de KIS Color Next Step (KIS kleur gevorderd) gevolgd zijn.\n– Een in-salon 1-op-1 training of online training vervangt niet de dagtraining in de studio; \nWe controleren zorgvuldig of elke deelnemer aan alle voorwaarden voldoet. Bij twijfel doen we een toelatingstest! \nLet op: Aanmelding is uitsluitend mogelijk via jouw Business Development Manager.
URL:https://studioprogramma.kis-haircare.nl/workshops/kis-colorspecialist-opleiding/
LOCATION:Ministry of Beauty\, Europaweg 220\, 7336 AR Apeldoorn\, Nederland
CATEGORIES:KIS Haircare
ATTACH;FMTTYPE=image/jpeg:https://studioprogramma.kis-haircare.nl/wp-content/uploads/2023/07/KIS_color_trofee_voorbeeldCORRECT.jpg
ORGANIZER;CN="KIS HairCare":MAILTO:info@kis-haircare.com
GEO:52.1926836;5.9329345
X-APPLE-STRUCTURED-LOCATION;VALUE=URI;X-ADDRESS=Ministry of Beauty Europaweg 220 7336 AR Apeldoorn Nederland;X-APPLE-RADIUS=500;X-TITLE=Europaweg 220:geo:5.9329345,52.1926836
END:VEVENT
END:VCALENDAR