BEGIN:VCALENDAR
VERSION:2.0
PRODID:-//Studioprogramma KIS Haircare - ECPv6.15.20//NONSGML v1.0//EN
CALSCALE:GREGORIAN
METHOD:PUBLISH
X-ORIGINAL-URL:https://studioprogramma.kis-haircare.nl
X-WR-CALDESC:Evenementen voor Studioprogramma KIS Haircare
REFRESH-INTERVAL;VALUE=DURATION:PT1H
X-Robots-Tag:noindex
X-PUBLISHED-TTL:PT1H
BEGIN:VTIMEZONE
TZID:Europe/Helsinki
BEGIN:DAYLIGHT
TZOFFSETFROM:+0200
TZOFFSETTO:+0300
TZNAME:EEST
DTSTART:20250330T010000
END:DAYLIGHT
BEGIN:STANDARD
TZOFFSETFROM:+0300
TZOFFSETTO:+0200
TZNAME:EET
DTSTART:20251026T010000
END:STANDARD
BEGIN:DAYLIGHT
TZOFFSETFROM:+0200
TZOFFSETTO:+0300
TZNAME:EEST
DTSTART:20260329T010000
END:DAYLIGHT
BEGIN:STANDARD
TZOFFSETFROM:+0300
TZOFFSETTO:+0200
TZNAME:EET
DTSTART:20261025T010000
END:STANDARD
BEGIN:DAYLIGHT
TZOFFSETFROM:+0200
TZOFFSETTO:+0300
TZNAME:EEST
DTSTART:20270328T010000
END:DAYLIGHT
BEGIN:STANDARD
TZOFFSETFROM:+0300
TZOFFSETTO:+0200
TZNAME:EET
DTSTART:20271031T010000
END:STANDARD
END:VTIMEZONE
BEGIN:VEVENT
DTSTART;TZID=Europe/Helsinki:20260601T100000
DTEND;TZID=Europe/Helsinki:20260601T163000
DTSTAMP:20260422T191011
CREATED:20251205T065142Z
LAST-MODIFIED:20251205T065142Z
UID:10000541-1780308000-1780331400@studioprogramma.kis-haircare.nl
SUMMARY:KIS Festival Color & Braids by Ingeborg van de Ven (Lepelstraat) 010626
DESCRIPTION:Boho festival hairstyles zijn dé trend – van zomerse muziekfestivals tot romantische outdoor weddings. In deze training leer je hoe je opvallende\, creatieve en stevige looks maakt die perfect passen bij een festivalvibe én de hele dag (of het hele weekend) blijven zitten. \nWat kun je verwachten? \nTijdens deze inspirerende en hands-on training laat ons team je zien hoe je bohemian kapsels combineert met kleuraccenten en vlechttechnieken voor de ultieme festivallook. Denk aan losse waves\, speelse vlechten\, gekleurde accenten en romantische updos met een edge. \nJe leert hoe je met simpele\, maar slimme technieken indrukwekkende kapsels maakt die zowel draagbaar als opvallend zijn. Ook als je normaal liever geen updos doet: na deze training weet je precies hoe je het aanpakt – en doe je het met plezier én zelfvertrouwen. \nWaarom deelnemen? \nNa deze training beheers je verschillende technieken voor het creëren van boho kapsels\, festivalproof vlechten en updos met impact. Je weet hoe je stijl en stevigheid combineert en je klanten verrast met creatieve looks\, perfect voor festivals of bruiloften op locatie. \nVoor iedereen die zijn of haar styling-skills wil uitbreiden\, out of the box wil denken en klaar wil zijn voor elk feestje – in de salon én daarbuiten. \nIngeschreven maar onverwacht verhinderd? Geeft dit tijdig aan ons door. Wij kunnen dan iemand van de wachtlijst plaatsen voor dit seminar. Bij te laat melden of niet melden\, hanteren we een annuleringsregeling: bij annulering binnen 14 dagen voor aanvang van de cursus bedragen de kosten 50% van het cursusbedrag. Bij annulering tot een week voor aanvang van de cursus vindt geen restitutie van het cursusbedrag plaats. Deelname door een plaatsvervanger is altijd toegestaan.
URL:https://studioprogramma.kis-haircare.nl/workshops/kis-festival-color-braids-by-ingeborg-van-de-ven-lepelstraat-010626/
LOCATION:Keijzerskroon\, Kerkstraat 55\, Lepelstraat\, 4664 BP
CATEGORIES:KIS Haircare
ATTACH;FMTTYPE=image/png:https://studioprogramma.kis-haircare.nl/wp-content/uploads/2025/12/Ingeborg.png
ORGANIZER;CN="KIS HairCare":MAILTO:info@kis-haircare.com
GEO:51.5492477;4.2770296
X-APPLE-STRUCTURED-LOCATION;VALUE=URI;X-ADDRESS=Keijzerskroon Kerkstraat 55 Lepelstraat 4664 BP;X-APPLE-RADIUS=500;X-TITLE=Kerkstraat 55:geo:4.2770296,51.5492477
END:VEVENT
END:VCALENDAR